Package: gcapc Version: 1.32.0 Command: chmod a+r gcapc -R && E:\biocbuild\bbs-3.21-bioc\R\bin\R.exe CMD build --keep-empty-dirs --no-resave-data gcapc StartedAt: 2025-08-14 19:14:54 -0400 (Thu, 14 Aug 2025) EndedAt: 2025-08-14 19:21:08 -0400 (Thu, 14 Aug 2025) EllapsedTime: 374.4 seconds RetCode: 0 Status: OK PackageFile: gcapc_1.32.0.tar.gz PackageFileSize: 3.603 MiB