Package: gcapc Version: 1.32.0 Command: rm -rf gcapc.buildbin-libdir && mkdir gcapc.buildbin-libdir && E:\biocbuild\bbs-3.21-bioc\R\bin\R.exe CMD INSTALL --build --library=gcapc.buildbin-libdir gcapc_1.32.0.tar.gz StartedAt: 2025-08-15 09:19:47 -0400 (Fri, 15 Aug 2025) EndedAt: 2025-08-15 09:20:26 -0400 (Fri, 15 Aug 2025) EllapsedTime: 38.4 seconds RetCode: 0 Status: OK PackageFile: gcapc_1.32.0.zip PackageFileSize: 3.682 MiB