Package: garfield Version: 1.36.0 Command: rm -rf garfield.buildbin-libdir && mkdir garfield.buildbin-libdir && /Users/biocbuild/BBS/utils/build-universal.sh garfield_1.36.0.tar.gz /Library/Frameworks/R.framework/Resources/bin/R garfield.buildbin-libdir StartedAt: 2025-04-21 22:35:45 -0400 (Mon, 21 Apr 2025) EndedAt: 2025-04-21 22:35:50 -0400 (Mon, 21 Apr 2025) EllapsedTime: 4.1 seconds RetCode: 0 Status: OK PackageFile: garfield_1.36.0.tgz PackageFileSize: 388.9 KiB