Package: gage Version: 2.58.0 Command: /home/biocbuild/bbs-3.21-bioc/R/bin/R CMD build --keep-empty-dirs --no-resave-data gage StartedAt: 2025-10-05 17:36:19 -0400 (Sun, 05 Oct 2025) EndedAt: 2025-10-05 17:38:39 -0400 (Sun, 05 Oct 2025) EllapsedTime: 140.1 seconds RetCode: 0 Status: OK PackageFile: gage_2.58.0.tar.gz PackageFileSize: 4.331 MiB