Package: gaga Version: 2.54.0 Command: /Library/Frameworks/R.framework/Resources/bin/R CMD INSTALL gaga StartedAt: 2025-05-22 15:24:18 -0400 (Thu, 22 May 2025) EndedAt: 2025-05-22 15:24:50 -0400 (Thu, 22 May 2025) EllapsedTime: 31.4 seconds RetCode: 0 Status: OK