Package: gVenn Version: 1.0.0 Command: /home/biocbuild/bbs-3.22-bioc/R/bin/R CMD INSTALL gVenn StartedAt: 2025-11-02 15:37:29 -0500 (Sun, 02 Nov 2025) EndedAt: 2025-11-02 15:37:32 -0500 (Sun, 02 Nov 2025) EllapsedTime: 3.1 seconds RetCode: 0 Status: OK