Package: gVenn Version: 1.0.0 Command: /home/biocbuild/bbs-3.22-bioc/R/bin/R CMD build --keep-empty-dirs --no-resave-data --md5 gVenn StartedAt: 2025-11-02 18:16:41 -0500 (Sun, 02 Nov 2025) EndedAt: 2025-11-02 18:16:58 -0500 (Sun, 02 Nov 2025) EllapsedTime: 17.0 seconds RetCode: 0 Status: OK PackageFile: gVenn_1.0.0.tar.gz PackageFileSize: 1.999 MiB