Package: gINTomics Version: 1.2.0 Command: /home/biocbuild/R/R/bin/R CMD check --install=check:gINTomics.install-out.txt --library=/home/biocbuild/R/R/site-library --no-vignettes --timings gINTomics_1.2.0.tar.gz StartedAt: 2025-01-31 06:46:29 -0000 (Fri, 31 Jan 2025) EndedAt: 2025-01-31 07:26:29 -0000 (Fri, 31 Jan 2025) EllapsedTime: 2400.2 seconds RetCode: None Status: TIMEOUT CheckDir: gINTomics.Rcheck Warnings: NA