Package: gDRutils Version: 1.6.0 Command: rm -rf gDRutils.buildbin-libdir && mkdir gDRutils.buildbin-libdir && E:\biocbuild\bbs-3.21-bioc\R\bin\R.exe CMD INSTALL --build --library=gDRutils.buildbin-libdir gDRutils_1.6.0.tar.gz StartedAt: 2025-08-15 09:20:03 -0400 (Fri, 15 Aug 2025) EndedAt: 2025-08-15 09:21:19 -0400 (Fri, 15 Aug 2025) EllapsedTime: 76.1 seconds RetCode: 0 Status: OK PackageFile: gDRutils_1.6.0.zip PackageFileSize: 663.4 KiB