Package: gDRutils Version: 1.6.0 Command: /Library/Frameworks/R.framework/Resources/bin/R CMD check --install=check:gDRutils.install-out.txt --library=/Library/Frameworks/R.framework/Resources/library --no-vignettes --timings gDRutils_1.6.0.tar.gz StartedAt: 2025-04-21 20:50:02 -0400 (Mon, 21 Apr 2025) EndedAt: 2025-04-21 20:54:28 -0400 (Mon, 21 Apr 2025) EllapsedTime: 266.7 seconds RetCode: 0 Status: OK CheckDir: gDRutils.Rcheck Warnings: 0