Package: gDRutils Version: 1.6.0 Command: /Library/Frameworks/R.framework/Resources/bin/R CMD build --keep-empty-dirs --no-resave-data gDRutils StartedAt: 2025-04-21 16:52:30 -0400 (Mon, 21 Apr 2025) EndedAt: 2025-04-21 16:53:14 -0400 (Mon, 21 Apr 2025) EllapsedTime: 43.4 seconds RetCode: 0 Status: OK PackageFile: gDRutils_1.6.0.tar.gz PackageFileSize: 334.6 KiB