Package: gDRutils Version: 1.6.0 Command: rm -rf gDRutils.buildbin-libdir && mkdir gDRutils.buildbin-libdir && /Users/biocbuild/BBS/utils/build-universal.sh gDRutils_1.6.0.tar.gz /Library/Frameworks/R.framework/Resources/bin/R gDRutils.buildbin-libdir StartedAt: 2025-04-22 00:46:28 -0400 (Tue, 22 Apr 2025) EndedAt: 2025-04-22 00:47:03 -0400 (Tue, 22 Apr 2025) EllapsedTime: 34.7 seconds RetCode: 0 Status: OK PackageFile: gDRutils_1.6.0.tgz PackageFileSize: 655.6 KiB