Package: gDRutils Version: 1.6.0 Maintainer: Arkadiusz Gladki MaintainerEmail: gladki.arkadiusz at gmail.com git_url: https://git.bioconductor.org/packages/gDRutils git_branch: RELEASE_3_21 git_last_commit: c9fd3fb git_last_commit_date: 2025-04-15 13:16:41 -0400 (Tue, 15 Apr 2025)