Package: gDRimport Version: 1.4.0 Command: /home/biocbuild/bbs-3.20-bioc/R/bin/R CMD INSTALL gDRimport StartedAt: 2025-01-30 15:57:08 -0500 (Thu, 30 Jan 2025) EndedAt: 2025-01-30 15:57:36 -0500 (Thu, 30 Jan 2025) EllapsedTime: 27.6 seconds RetCode: 0 Status: OK