Package: gDRimport Version: 1.4.0 Command: /home/biocbuild/bbs-3.20-bioc/R/bin/R CMD check --install=check:gDRimport.install-out.txt --library=/home/biocbuild/bbs-3.20-bioc/R/site-library --timings gDRimport_1.4.0.tar.gz StartedAt: 2025-01-30 22:23:37 -0500 (Thu, 30 Jan 2025) EndedAt: 2025-01-30 22:27:24 -0500 (Thu, 30 Jan 2025) EllapsedTime: 226.3 seconds RetCode: 0 Status: OK CheckDir: gDRimport.Rcheck Warnings: 0