Package: gDRimport Version: 1.4.0 Command: /home/biocbuild/bbs-3.20-bioc/R/bin/R CMD build --keep-empty-dirs --no-resave-data --md5 gDRimport StartedAt: 2025-01-30 17:20:42 -0500 (Thu, 30 Jan 2025) EndedAt: 2025-01-30 17:21:28 -0500 (Thu, 30 Jan 2025) EllapsedTime: 46.1 seconds RetCode: 0 Status: OK PackageFile: gDRimport_1.4.0.tar.gz PackageFileSize: 3.014 MiB