Package: gDRimport Version: 1.4.0 Command: rm -rf gDRimport.buildbin-libdir && mkdir gDRimport.buildbin-libdir && /Users/biocbuild/BBS/utils/build-universal.sh gDRimport_1.4.0.tar.gz /Library/Frameworks/R.framework/Resources/bin/R gDRimport.buildbin-libdir StartedAt: 2025-01-31 12:50:29 -0500 (Fri, 31 Jan 2025) EndedAt: 2025-01-31 12:51:25 -0500 (Fri, 31 Jan 2025) EllapsedTime: 55.9 seconds RetCode: 0 Status: OK PackageFile: gDRimport_1.4.0.tgz PackageFileSize: 3.322 MiB