Package: gDRimport Version: 1.6.0 Command: /Library/Frameworks/R.framework/Resources/bin/R CMD INSTALL gDRimport StartedAt: 2025-04-21 15:19:40 -0400 (Mon, 21 Apr 2025) EndedAt: 2025-04-21 15:19:50 -0400 (Mon, 21 Apr 2025) EllapsedTime: 10.1 seconds RetCode: 0 Status: OK