Package: gDRimport Version: 1.6.0 Command: /Library/Frameworks/R.framework/Resources/bin/R CMD build --keep-empty-dirs --no-resave-data gDRimport StartedAt: 2025-04-21 16:24:11 -0400 (Mon, 21 Apr 2025) EndedAt: 2025-04-21 16:24:33 -0400 (Mon, 21 Apr 2025) EllapsedTime: 22.3 seconds RetCode: 0 Status: OK PackageFile: gDRimport_1.6.0.tar.gz PackageFileSize: 3.009 MiB