Package: gDRimport Version: 1.6.0 Command: rm -rf gDRimport.buildbin-libdir && mkdir gDRimport.buildbin-libdir && /Users/biocbuild/BBS/utils/build-universal.sh gDRimport_1.6.0.tar.gz /Library/Frameworks/R.framework/Resources/bin/R gDRimport.buildbin-libdir StartedAt: 2025-04-21 22:35:59 -0400 (Mon, 21 Apr 2025) EndedAt: 2025-04-21 22:36:10 -0400 (Mon, 21 Apr 2025) EllapsedTime: 11.3 seconds RetCode: 0 Status: OK PackageFile: gDRimport_1.6.0.tgz PackageFileSize: 3.334 MiB