Package: gDRimport Version: 1.6.0 Command: rm -rf gDRimport.buildbin-libdir && mkdir gDRimport.buildbin-libdir && /Users/biocbuild/BBS/utils/build-universal.sh gDRimport_1.6.0.tar.gz /Library/Frameworks/R.framework/Resources/bin/R gDRimport.buildbin-libdir StartedAt: 2025-05-14 15:05:43 -0400 (Wed, 14 May 2025) EndedAt: 2025-05-14 15:06:15 -0400 (Wed, 14 May 2025) EllapsedTime: 32.3 seconds RetCode: 0 Status: OK PackageFile: gDRimport_1.6.0.tgz PackageFileSize: 3.329 MiB