Package: gDRcore Version: 1.4.0 Command: /home/biocbuild/R/R/bin/R CMD check --install=check:gDRcore.install-out.txt --library=/home/biocbuild/R/R/site-library --no-vignettes --timings gDRcore_1.4.0.tar.gz StartedAt: 2025-01-31 06:25:58 -0000 (Fri, 31 Jan 2025) EndedAt: 2025-01-31 06:32:38 -0000 (Fri, 31 Jan 2025) EllapsedTime: 400.4 seconds RetCode: 0 Status: OK CheckDir: gDRcore.Rcheck Warnings: 0