Package: gDNAx Version: 1.6.1 Command: chmod a+r gDNAx -R && E:\biocbuild\bbs-3.21-bioc\R\bin\R.exe CMD build --keep-empty-dirs --no-resave-data gDNAx StartedAt: 2025-08-14 19:15:27 -0400 (Thu, 14 Aug 2025) EndedAt: 2025-08-14 19:20:54 -0400 (Thu, 14 Aug 2025) EllapsedTime: 326.0 seconds RetCode: 0 Status: OK PackageFile: gDNAx_1.6.1.tar.gz PackageFileSize: 563.2 KiB