Package: gDNAx Version: 1.4.1 Command: /home/biocbuild/bbs-3.20-bioc/R/bin/R CMD check --install=check:gDNAx.install-out.txt --library=/home/biocbuild/bbs-3.20-bioc/R/site-library --timings gDNAx_1.4.1.tar.gz StartedAt: 2025-01-30 22:22:44 -0500 (Thu, 30 Jan 2025) EndedAt: 2025-01-30 22:38:23 -0500 (Thu, 30 Jan 2025) EllapsedTime: 939.0 seconds RetCode: 0 Status: OK CheckDir: gDNAx.Rcheck Warnings: 0