Package: gDNAx Version: 1.4.1 Command: /home/biocbuild/bbs-3.20-bioc/R/bin/R CMD build --keep-empty-dirs --no-resave-data --md5 gDNAx StartedAt: 2025-01-30 17:20:30 -0500 (Thu, 30 Jan 2025) EndedAt: 2025-01-30 17:23:36 -0500 (Thu, 30 Jan 2025) EllapsedTime: 186.2 seconds RetCode: 0 Status: OK PackageFile: gDNAx_1.4.1.tar.gz PackageFileSize: 735.2 KiB