Package: gDNAx Version: 1.6.0 Command: /Library/Frameworks/R.framework/Resources/bin/R CMD check --install=check:gDNAx.install-out.txt --library=/Library/Frameworks/R.framework/Resources/library --no-vignettes --timings gDNAx_1.6.0.tar.gz StartedAt: 2025-04-21 20:49:44 -0400 (Mon, 21 Apr 2025) EndedAt: 2025-04-21 21:05:19 -0400 (Mon, 21 Apr 2025) EllapsedTime: 934.9 seconds RetCode: 0 Status: OK CheckDir: gDNAx.Rcheck Warnings: 0