Package: gDNAx Version: 1.4.0 Command: /home/biocbuild/R/R/bin/R CMD build --keep-empty-dirs --no-resave-data gDNAx StartedAt: 2024-11-20 00:50:14 -0000 (Wed, 20 Nov 2024) EndedAt: 2024-11-20 00:55:14 -0000 (Wed, 20 Nov 2024) EllapsedTime: 299.4 seconds RetCode: 0 Status: OK PackageFile: gDNAx_1.4.0.tar.gz PackageFileSize: 648.3 KiB