Package: gDNAx Version: 1.6.0 Command: /Library/Frameworks/R.framework/Resources/bin/R CMD check --install=check:gDNAx.install-out.txt --library=/Library/Frameworks/R.framework/Resources/library --no-vignettes --timings gDNAx_1.6.0.tar.gz StartedAt: 2025-05-06 20:27:29 -0400 (Tue, 06 May 2025) EndedAt: 2025-05-06 20:43:29 -0400 (Tue, 06 May 2025) EllapsedTime: 959.9 seconds RetCode: 0 Status: OK CheckDir: gDNAx.Rcheck Warnings: 0