Package: gCrisprTools Version: 2.14.0 Command: chmod a+r gCrisprTools -R && E:\biocbuild\bbs-3.21-bioc\R\bin\R.exe CMD build --keep-empty-dirs --no-resave-data gCrisprTools StartedAt: 2025-08-14 19:15:08 -0400 (Thu, 14 Aug 2025) EndedAt: 2025-08-14 19:20:40 -0400 (Thu, 14 Aug 2025) EllapsedTime: 332.4 seconds RetCode: 0 Status: OK PackageFile: gCrisprTools_2.14.0.tar.gz PackageFileSize: 3.064 MiB