Package: funOmics Version: 1.2.0 Command: /Library/Frameworks/R.framework/Resources/bin/R CMD INSTALL funOmics StartedAt: 2025-04-21 15:21:17 -0400 (Mon, 21 Apr 2025) EndedAt: 2025-04-21 15:21:41 -0400 (Mon, 21 Apr 2025) EllapsedTime: 23.9 seconds RetCode: 0 Status: OK