Package: funOmics Version: 1.2.0 Command: /Library/Frameworks/R.framework/Resources/bin/R CMD build --keep-empty-dirs --no-resave-data funOmics StartedAt: 2025-04-21 16:22:42 -0400 (Mon, 21 Apr 2025) EndedAt: 2025-04-21 16:25:50 -0400 (Mon, 21 Apr 2025) EllapsedTime: 188.2 seconds RetCode: 0 Status: OK PackageFile: funOmics_1.2.0.tar.gz PackageFileSize: 52.52 KiB