Package: frmaTools Version: 1.58.0 Command: /home/biocbuild/R/R/bin/R CMD check --install=check:frmaTools.install-out.txt --library=/home/biocbuild/R/R/site-library --no-vignettes --timings frmaTools_1.58.0.tar.gz StartedAt: 2025-01-31 06:22:20 -0000 (Fri, 31 Jan 2025) EndedAt: 2025-01-31 06:22:58 -0000 (Fri, 31 Jan 2025) EllapsedTime: 38.0 seconds RetCode: 0 Status: OK CheckDir: frmaTools.Rcheck Warnings: 0