Package: frma Version: 1.58.0 Command: /home/biocbuild/R/R/bin/R CMD check --install=check:frma.install-out.txt --library=/home/biocbuild/R/R/site-library --no-vignettes --timings frma_1.58.0.tar.gz StartedAt: 2025-02-11 06:19:25 -0000 (Tue, 11 Feb 2025) EndedAt: 2025-02-11 06:24:32 -0000 (Tue, 11 Feb 2025) EllapsedTime: 307.3 seconds RetCode: 0 Status: OK CheckDir: frma.Rcheck Warnings: 0