Package: fobitools Version: 1.14.0 Command: /home/biocbuild/R/R/bin/R CMD INSTALL fobitools StartedAt: 2025-01-30 20:57:48 -0000 (Thu, 30 Jan 2025) EndedAt: 2025-01-30 20:58:02 -0000 (Thu, 30 Jan 2025) EllapsedTime: 14.6 seconds RetCode: 0 Status: OK