Package: fobitools Version: 1.14.0 Command: /home/biocbuild/R/R/bin/R CMD check --install=check:fobitools.install-out.txt --library=/home/biocbuild/R/R/site-library --no-vignettes --timings fobitools_1.14.0.tar.gz StartedAt: 2025-01-31 06:21:55 -0000 (Fri, 31 Jan 2025) EndedAt: 2025-01-31 06:27:02 -0000 (Fri, 31 Jan 2025) EllapsedTime: 306.3 seconds RetCode: 0 Status: OK CheckDir: fobitools.Rcheck Warnings: 0