Package: fobitools Version: 1.16.0 Command: rm -rf fobitools.buildbin-libdir && mkdir fobitools.buildbin-libdir && E:\biocbuild\bbs-3.21-bioc\R\bin\R.exe CMD INSTALL --build --library=fobitools.buildbin-libdir fobitools_1.16.0.tar.gz StartedAt: 2025-08-15 09:19:00 -0400 (Fri, 15 Aug 2025) EndedAt: 2025-08-15 09:19:28 -0400 (Fri, 15 Aug 2025) EllapsedTime: 28.4 seconds RetCode: 0 Status: OK PackageFile: fobitools_1.16.0.zip PackageFileSize: 2.44 MiB