Package: fmrs Version: 1.16.0 Command: rm -rf fmrs.buildbin-libdir && mkdir fmrs.buildbin-libdir && /Users/biocbuild/BBS/utils/build-universal.sh fmrs_1.16.0.tar.gz /Library/Frameworks/R.framework/Resources/bin/R fmrs.buildbin-libdir StartedAt: 2025-01-31 12:49:33 -0500 (Fri, 31 Jan 2025) EndedAt: 2025-01-31 12:49:58 -0500 (Fri, 31 Jan 2025) EllapsedTime: 24.6 seconds RetCode: 0 Status: OK PackageFile: fmrs_1.16.0.tgz PackageFileSize: 208 KiB