Package: fmrs Version: 1.18.0 Command: rm -rf fmrs.buildbin-libdir && mkdir fmrs.buildbin-libdir && /Users/biocbuild/BBS/utils/build-universal.sh fmrs_1.18.0.tar.gz /Library/Frameworks/R.framework/Resources/bin/R fmrs.buildbin-libdir StartedAt: 2025-04-22 00:46:01 -0400 (Tue, 22 Apr 2025) EndedAt: 2025-04-22 00:46:19 -0400 (Tue, 22 Apr 2025) EllapsedTime: 17.6 seconds RetCode: 0 Status: OK PackageFile: fmrs_1.18.0.tgz PackageFileSize: 210.7 KiB