Package: fmrs Version: 1.16.0 Command: /Library/Frameworks/R.framework/Resources/bin/R CMD INSTALL fmrs StartedAt: 2025-01-30 17:10:42 -0500 (Thu, 30 Jan 2025) EndedAt: 2025-01-30 17:10:54 -0500 (Thu, 30 Jan 2025) EllapsedTime: 11.6 seconds RetCode: 0 Status: OK