Package: fmrs Version: 1.16.0 Command: rm -rf fmrs.buildbin-libdir && mkdir fmrs.buildbin-libdir && /Users/biocbuild/BBS/utils/build-universal.sh fmrs_1.16.0.tar.gz /Library/Frameworks/R.framework/Resources/bin/R fmrs.buildbin-libdir StartedAt: 2025-02-01 14:58:03 -0500 (Sat, 01 Feb 2025) EndedAt: 2025-02-01 14:58:17 -0500 (Sat, 01 Feb 2025) EllapsedTime: 13.5 seconds RetCode: 0 Status: OK PackageFile: fmrs_1.16.0.tgz PackageFileSize: 198.1 KiB