Package: flowWorkspace Version: 4.20.0 Command: /home/biocbuild/bbs-3.21-bioc/R/bin/R CMD INSTALL flowWorkspace StartedAt: 2025-10-12 15:16:13 -0400 (Sun, 12 Oct 2025) EndedAt: 2025-10-12 15:18:26 -0400 (Sun, 12 Oct 2025) EllapsedTime: 132.7 seconds RetCode: 0 Status: OK