Package: flowViz Version: 1.72.0 Command: /Library/Frameworks/R.framework/Resources/bin/R CMD INSTALL flowViz StartedAt: 2025-05-05 15:21:33 -0400 (Mon, 05 May 2025) EndedAt: 2025-05-05 15:22:07 -0400 (Mon, 05 May 2025) EllapsedTime: 34.1 seconds RetCode: 0 Status: OK