Package: flowViz Version: 1.72.0 Command: /Library/Frameworks/R.framework/Resources/bin/R CMD build --keep-empty-dirs --no-resave-data flowViz StartedAt: 2025-05-05 19:00:00 -0400 (Mon, 05 May 2025) EndedAt: 2025-05-05 19:02:48 -0400 (Mon, 05 May 2025) EllapsedTime: 167.5 seconds RetCode: 0 Status: OK PackageFile: flowViz_1.72.0.tar.gz PackageFileSize: 1.183 MiB