Package: flowViz Version: 1.72.0 Command: /home/biocbuild/R/R/bin/R CMD INSTALL flowViz StartedAt: 2025-05-05 20:25:43 -0000 (Mon, 05 May 2025) EndedAt: 2025-05-05 20:26:02 -0000 (Mon, 05 May 2025) EllapsedTime: 18.6 seconds RetCode: 0 Status: OK