Package: flowViz Version: 1.72.0 Command: /home/biocbuild/R/R/bin/R CMD build --keep-empty-dirs --no-resave-data flowViz StartedAt: 2025-05-09 00:48:32 -0000 (Fri, 09 May 2025) EndedAt: 2025-05-09 00:50:08 -0000 (Fri, 09 May 2025) EllapsedTime: 96.0 seconds RetCode: 0 Status: OK PackageFile: flowViz_1.72.0.tar.gz PackageFileSize: 969.2 KiB