Package: flowViz Version: 1.72.0 Command: rm -rf flowViz.buildbin-libdir && mkdir flowViz.buildbin-libdir && /Users/biocbuild/BBS/utils/build-universal.sh flowViz_1.72.0.tar.gz /Library/Frameworks/R.framework/Resources/bin/R flowViz.buildbin-libdir StartedAt: 2025-05-10 15:09:54 -0400 (Sat, 10 May 2025) EndedAt: 2025-05-10 15:10:08 -0400 (Sat, 10 May 2025) EllapsedTime: 14.4 seconds RetCode: 0 Status: OK PackageFile: flowViz_1.72.0.tgz PackageFileSize: 1.478 MiB