Package: flowTrans Version: 1.58.0 Command: rm -rf flowTrans.buildbin-libdir && mkdir flowTrans.buildbin-libdir && /Users/biocbuild/BBS/utils/build-universal.sh flowTrans_1.58.0.tar.gz /Library/Frameworks/R.framework/Resources/bin/R flowTrans.buildbin-libdir StartedAt: 2025-01-31 12:49:22 -0500 (Fri, 31 Jan 2025) EndedAt: 2025-01-31 12:49:42 -0500 (Fri, 31 Jan 2025) EllapsedTime: 21.0 seconds RetCode: 0 Status: OK PackageFile: flowTrans_1.58.0.tgz PackageFileSize: 523.1 KiB