Package: flowTrans Version: 1.60.0 Command: /home/biocbuild/R/R/bin/R CMD INSTALL flowTrans StartedAt: 2025-05-08 20:34:11 -0000 (Thu, 08 May 2025) EndedAt: 2025-05-08 20:34:22 -0000 (Thu, 08 May 2025) EllapsedTime: 10.6 seconds RetCode: 0 Status: OK