Package: flowStats Version: 4.20.0 Maintainer: Greg Finak , Mike Jiang MaintainerEmail: mike at ozette.com git_url: https://git.bioconductor.org/packages/flowStats git_branch: RELEASE_3_21 git_last_commit: d287cda git_last_commit_date: 2025-04-15 09:44:42 -0400 (Tue, 15 Apr 2025)