Package: flowSpecs Version: 1.20.0 Command: /home/biocbuild/R/R/bin/R CMD INSTALL flowSpecs StartedAt: 2025-01-30 20:20:45 -0000 (Thu, 30 Jan 2025) EndedAt: 2025-01-30 20:20:56 -0000 (Thu, 30 Jan 2025) EllapsedTime: 11.3 seconds RetCode: 0 Status: OK